Workbook
Name B269ž: #REF!
Name F101đ: #REF!

Sheet Opće napomene
A2: Napomena za izvođača:
A3: Jedinična cijena koja se upisuje u troškovnik sadrži materijal, opremu, radnu snagu potrebnu za ugradnju navedenog materijala i opreme do pune pogonske sposobnosti.
A4: U jediničnu cijenu svake stavke obvezno uključiti sve mjere osiguranja prolaznika, radnika i okolnih građevina za vrijeme trajanja radova, svu potrebnu skelu ili viljuškara, sva potrebna premještanja postojećih instalacija i dovođenje istih u prvobitno stanje po završetku radova, sve transporte materijala preostalog od rušenja te deponiranje koje osigurava Izvođač radova. U stavku još uključiti završne radove kao što je demontiranje kontejnera, čišćenje okoliša, uređenje gradilišta, sve potrebne tlačne i funcionalne probe, puštanje u pogon od za to ovlaštenih servisera pojedine opreme, a sve do pune pogonske sposobnosti.
A5: U jediničnu cijenu svake stavke uključiti sve nabave, transporte do gradilišta, horizontalne i vertikalne transporte na gradilištu, sav potreban rad i pomoćne radnje, osnovni i pomoćni materijal, razne pripomoći instalaterima i sl. Posebnu pažnju pridati teškoj opremi.
A6: Izradu radioničke dokumentacije, sva ispitivanja i nabavu atestne dokumentacije na hrvatskom jeziku, izradu dokumentacije izvedenog stanja u dva primjerka; sva čišćenja u tijeku i nakon završetka radova, a sve do potpune funkcionalne gotovosti svake pojedine stavke i troškovnika u cjelini - ako opisom stavke nije drugačije određeno, daje izvođač radova.
A7: Uračunati sve potrebne zaštite na kontaktnim zonama s gradilištem.
A8: Izvođač je prije davanja ponude dužan obići i detaljno pregledati gradilište i okolicu, da se upoznao s postojećim cestama i ostalim prometnicama, te da je upoznao sve bitne elemente koji imaju utjecaj na organizaciju gradilišta.
A9: Izvođač je dužan ispitati i provjeriti postojeće izvore za snadbijevanje materijalom, kao i sve ostale okolnosti koje utječu na izvođenje radova, da je upoznat s plaćanjem taksa, poreza i ostalih izdataka koji su propisani, da je u svemu proučio dokumentaciju za ustupanje radova, da je došao do svih potrebnih podataka koji utječu na izvođenje radova, te da je na osnovi svega toga podnio svoju ponudu.
A10: Prema tome, izvođač nema pravo zahtijevati povećanje cijene ili drugu naknadu, pozivajući se da u vrijeme davanja nije bio upoznat s prilikama na i oko gradilišta.
A11: Količine radova, koje se nakon dovršenja građevine ne mogu provjeriti izmjerom, upisuju se u građevinsku knjigu, odnosno u građevinski dnevnik. Nadzorni inženjer i izvoditelj potvrđuju svojim potpisom točnost upisanih podataka.
A12: Prije izvedbe takovih radova izvođač je dužan izvijestiti nadzornog inženjera da pristupa tim radovima, kako bi se na vrijeme utvrdile eventualno moguće sporne količine i potvrdila točnost podataka.
A13: Samo na taj način utvrđeni radovi mogu se uzeti u obzir kod izrade privremenog ili konačnog obračuna.Eventualne potrebne izmjene i dopune projekta donositi će sporazumno projektant s nadzornim inženjerom i izvoditeljem.
... A33: Troškovnik Troškovnik je sastavni dio ove Dokumentacije o nabavi te će biti sastavni dio ugovora o javnoj nabavi. Ponuditelj je obvezan ispuniti sve stavke Troškovnika na način propisan ovom Dokumentacijom o nabavi. Nije dopušteno mijenjati tekst, opis, redoslijed stavki niti količine navedene u Troškovniku. Jedinične cijene i ukupne cijene stavki iskazuju se u eurima (EUR), bez poreza na dodanu vrijednost (PDV), zaokružene na dvije decimalne znamenke. Ukupna cijena pojedine stavke izračunava se kao umnožak količine i ponuđene jedinične cijene. Cijena ponude predstavlja zbroj ukupnih cijena svih stavki Troškovnika. U obrascu ponude iskazuje se cijena ponude bez PDV-a, iznos PDV-a te ukupna cijena ponude s PDV-om. Ponuditelj je dužan ponuditi cjelokupan predmet nabave. Ako ponuditelj ne ispuni neku od stavki Troškovnika ili izmijeni količine, opise ili druge elemente Troškovnika koje nije dopušteno mijenjati, ponuda će se ocijeniti u skladu s odredbama Zakona o javnoj nabavi i ovom Dokumentacijom o nabavi.

Sheet Rekapitulacija
A1: REKAPITULACIJA
A2: Rekonstrukcija i izgradnja vodoopskrbne mreže i izgradnja kanalizacijske mreže u Ulici Miroslava Krleže u Orahovici
A3: Vrsta radova | B3: Ukupna cijena (EUR bez PDV-a)
A4: A OPĆE STAVKE | B4: ='A_Opće stavke '!C21 -> 0
A5: B GRAĐEVINSKI RADOVI | B5: =B_Građevinski!C248 -> 0
A6: C STROJARSKI RADOVI | B6: =C_Strojarski!C118 -> 0
A7: D ELEKTROTEHNIČKI RADOVI | B7: ='D_ Elektrotehnički'!C94 -> 0
A8: SVEUKUPNO (bez PDV-a): | B8: =SUM(B4:B7) -> 0
A9: PDV (25%): | B9: =ROUND(B8*0.25,2) -> 0
A10: SVEUKUPNO (sa PDV-om): | B10: =+B9+B8 -> 0

Sheet A_Opće stavke 
A1: Rekonstrukcija i izgradnja vodoopskrbne mreže i izgradnja kanalizacijske mreže u Ulici Miroslava Krleže u Orahovici
A2: =Rekapitulacija!A4 -> A OPĆE STAVKE
A3: Broj | B3: Opis | C3: Jedinica mjere | D3: Količina | E3: Jedinična cijena | F3: Ukupna cijena
A4: A | B4: OPĆE STAVKE | F4: =SUM(F5:F17) -> 0
A5: A.1 | B5: Pripremni radovi za stavljanje gradilišta u funkciju i omogućavanje početka izvedbe radova, konzerviranje gradilišta i mobilizacija/demobilizacija. Transport gradilišne opreme (kontejnera, strojeva i alata) na gradilište i obrnuto po završetku radova. Stavljanje u funkciju sve gradilišne opreme i strojeva te održavanje istih u stanju funkcionalnosti za vrijeme izvođenja radova. Osiguranje sanitarno higijenskih uvjeta za vrijeme gradnje, eventualno osiguranje priključka za električnu energiju ili agregat te svih ostalih priključaka potrebnih za normalno funkcioniranje radova na gradilištu. Postavljanje znakova upozorenja o obaveznom korištenju osobnih sredstava zaštite na radu, zatim postavljanje znakova upozorenja koji proizlaze iz elaborata zaštite na radu, zabrani pristupa nezaposlenim osobama, kao i sve ostale radnje koje su nužno potrebne za nesmetano funkcioniranje gradilišta sukladno Zakonu o gradnji. Stavka obuhvaća sva potrebna konzerviranja gradilišta, mobilizacije i demobilizacije. Obračun po kompletu izvršenih radova po gradilištu. | C5: komplet | D5: 1 | F5: =ROUND(D5*ROUND(E5,2),2) -> 0
A6: A.2 | B6: Ploče za označavanje gradilišta. Izrada, doprema i postavljanje ploče kojom se objedinjuje označavanje gradilišta, sukladno Zakonu o gradnji (NN 155/25) te Pravilniku o sadržaju i izgledu ploče kojom se označava gradilište (NN 42/14). Ploče su dimenzije 1,5 x 2,7 m. Ploča mora biti postavljena na vidljivom mjestu, sigurno utemeljena i otporna na atmosferske uvjete, uz statički proračun dan u Izvedbenom projektu. U slučaju oštećenja ploče, Izvođač će ju zamijeniti o svom trošku. Stavka obuhvaća i održavanje ploče tijekom izvođenja radova, eventualne zamjene u slučaju oštećenja ploče, kao i uklanjanje ploče po završetku izvođenja radova. Obračun po kompletu postavljenih ploča na gradilište. | C6: komplet | D6: 1 | F6: =ROUND(D6*ROUND(E6,2),2) -> 0
A7: A.3 | B7: Uređenje gradilišta. Radovi navedeni u stavci odnose se na sva gradilišta obuhvaćena troškovnikom. Izvođač je dužan urediti te održavati gradilišta za dogovoreni rok trajanja radova sa sljedećim radovima, koji su uračunati u ovu stavku: - mjesto za skladištenje i rad - rasvjeta gradilišta - građevinska struja, građevinska voda, građevinska otpadna voda uklj. razvod i priključni vod - komunikacijski uređaj - dnevni boravak, uklj. sanitarni uređaj (prostor) - skladišni prostor, radionica, natkriveni prostor - strojevi, uređaji Gradilište mora biti uređeno sukladno odredbama Zakona o zaštiti na radu (NN 71/14, 118/14, 154/14, 94/18, 96/18) te sukladno elaboratu uređenja gradilišta (obveza izrade od strane Izvođača, uračunato u ovu stavku). Stavka uključuje prethodno čišćenje i raščišćavanje terena na cijeloj površini ispod buduće građevine, uklanjanje i odvoz otpadnog materijala na trajnu deponiju (lokaciju određuje Izvođač, snosi naknade za deponiranje) te kompletno čišćenje trasa prije početka radova. Obračun po kompletno izvedenom radu uređenja gradilišta. | C7: komplet | D7: 1 | F7: =ROUND(D7*ROUND(E7,2),2) -> 0
A8: A.4 | B8: Izrada elaborata privremene regulacije prometa. Stavka obuhvaća sve potrebne terenske i uredske radove za izradu elaborata. Elaborat prometnog rješenja izraditi u minimalno četiri (4) tiskana i dva (2) digitalna primjerka te ih predati Naručitelju i Inženjeru (svakome po 1 digitalni i 2 tiskana primjerka) na koje je Izvođač dužan ishoditi odobrenje od Inženjera i Naručitelja prije početka radova. Prije početka radova jedan (dodatni) primjerak elaborata dostaviti nadležnoj upravi za ceste i ishoditi suglasnost. Obračun po kompletu izrađenog i odobrenog elaborata privremene regulacije prometa. | C8: komplet | D8: 1 | F8: =ROUND(D8*ROUND(E8,2),2) -> 0
A9: A.5 | B9: Privremena regulacija prometa. Privremena regulacija prometa, postavljanje prometnih znakova i signalizacije te održavanje iste za vrijeme izvođenja radova u blizini prometnica, pješačkih i biciklističkih staza, sve sukladno elaboratu privremene regulacije prometa. Stavkom je obuhvaćeno i uklanjanje svih prometnih znakova i signalizacije po završetku radova. Obračun po kompletno izvršenim radovima privremene regulacije prometa. | C9: komplet | D9: 1 | F9: =ROUND(D9*ROUND(E9,2),2) -> 0
A10: A.6 | B10: Ishođenje suglasnosti za prekop javne površine. Ishođenje suglasnosti za prekop javne površine na osnovu elaborata privremene regulacije prometa, plana izvođenja radova, građevinske dozvole, glavnog i izvedbenog projekta. Izvođač treba ishoditi dozvolu za prekop javne površine od nadležnog upravitelja prometnice ( HC, ŽUC, Grad ili dr.) na kojoj se izvode radovi te po potrebi, podmiriti naknade za izdavanje istih. Obračun po kompletu svih ishođenih suglasnosti. | C10: komplet | D10: 1 | F10: =ROUND(D10*ROUND(E10,2),2) -> 0
A11: A.7 | B11: Terensko lociranje i označavanje mjesta poznatih trasa instalacija. Lociranje i označavanje mjesta poznatih trasa instalacija kao što su vodovod, električni i HT kablovi, kanalizacija i sličnih obavlja se prema situaciji, uzdužnom profilu i podacima odgovornih osoba nadležnih službi pripadajućih instalacija. Stavka obuhvaća sve cjevovode (uključivo kućni priključci) te objekte na trasi. Stavka se izvodi uz prisustvo predstavnika nadležnih komunalnih službi, Izvođača radova i Nadzornog Inženjera. Troškove sanacije oštećenja postojećih instalacija snosi Izvođač radova. Stavka obuhvaća i pregled trase uređajem za traženje instalacija prije početka radova uz označavanje pozicije instalacija u situacijskom i visinskom smislu. Obračun po kompletno izvedenim radovima lociranja i označavanja na gradilištu. | C11: komplet | D11: 1 | F11: =ROUND(D11*ROUND(E11,2),2) -> 0
A12: A.8 | B12: Izrada Izvedbenog projekta kojem je podloga iskolčenje svih naknadno definiranih okana na terenu, kućnih priključaka, crpnih stanica, kao i trasa postojećih instalacija. Izvedbeni projekt mora obuhvaćati sve radove na mreži sustava vodoopskrbe i odvodnje. Izvedbeni projekt treba uskladiti s glavnim projektom i svim nastalim promjenama nakon definiranja kućnih priključaka i pozicija postojećih podzemnih instalacija, definiranim trasama cjevovoda, kao i odabranom tehnologijom izvođenja što podrazumijeva potrebne izmjene u statičkom proračunu i izradu armaturnih planova, kao i rješavanje detalja tehnologije izvedbe. U sklopu izvedbenog projekta je potrebno izraditi iskaz svih okana koji je potreban za narudžbu materijala, a sve prema nacrtu iskolčenja koji je u skladu sa izvedbenim projektom. U slučaju izvođenja crpnih stanica Izvedbeni projekt mora sadržavati i projekt zaštite građevne jame. Osim prethodno navedenog, Izvedbeni projekt mora obuhvatiti strukovne odrednice građevinarstva, strojarstva i elektrotehnike. Cijenom obuhvatiti stvarne troškove izrade projektne dokumentacije sa svim potrebnim kasnijim izmjenama i dopunama. Obračun po kompletno izrađenom izvedbenom projektu u 3 pisana primjerka i digitalnoj kopiji. | C12: komplet | D12: 1 | F12: =ROUND(D12*ROUND(E12,2),2) -> 0
A13: A.9 | B13: Izrada geodetskog elaborata izvedenog stanja linijskih i ostalih građevinskih objekata. Sustav odvodnje uključuje gravitacijske kolektore, tlačne cjevovode, revizijska i zasunska okna te crpne stanice. Sustav vodoopskrbe uključuje vodoopskrbne cjevovode, zasunska, muljna i odzračno-dozračna okna, stanice za podizanje tlaka. U ovoj stavci nužno je koristiti elemente geodetskog snimka izvedenog stanja obračunatog u drugim stavkama. Stavka uključuje upis izgrađenih građevina sa svim objektima te crpnih i stanica za podizanje tlaka u katastarski operat. U stavku je uključena i uknjižba u zemljišno-knjižnom odjelu (gruntovnici) prema važećim zakonskim propisima. Elaborat dostaviti Naručitelju u dwg formatu na CD-u, te u dva (2) primjerka uvezanog elaborata ovjerenog na katastru, nakon završetka radova, a prije tehničkog pregleda. Obračun po kompletu izrađenog i predanog elaborata u zadanom broju primjeraka. | C13: komplet | D13: 1 | F13: =ROUND(D13*ROUND(E13,2),2) -> 0
A14: A.10 | B14: Izrada Plana izvođenja radova za cjelokupne radove. Stavka uključuje izradu plana izvođenja radova za cijelo gradilište obuhvaćeno predmetnim troškovnikom. Sadržaj Plana izvođenja radova će biti u skladu s Dodatkom IV. Pravilnika o zaštiti na radu na privremenim gradilištima (NN 48/18). Izvođač će angažirati ovlaštenog koordinatora zaštite na radu u fazi izrade projekta (s položenim stručnim ispitom za obavljanje poslova koordinatora zaštite na radu) te će prije uspostave ijednog gradilišta izraditi Plan izvođenja radova te ga dostaviti Naručitelju i Inženjeru najkasnije 15 dana prije početka izvođenja radova. Plan izvođenja radova mora obuhvatiti i dinamički plan izvođenja radova na način da definira planirani početak i dovršetak izvođenja pojedinih trasa cjevovoda (na razini pojedinih dionica ili grupe dionica). Svaka promjena na gradilištu koja može utjecati na sigurnost i zdravlje radnika, mora biti unesena u Plan izvođenja radova. Također, Izvođač će u pogledu Plana izvođenja radova poštivati naloge koordinatora II, imenovanog od strane Naručitelja, o potrebi izrade usklađenja plana izvođenja radova sa svim promjenama na gradilištu, što je također obuhvaćeno ovom stavkom. Svaku verziju plana izvođenja radova izraditi za svako od gradilišta Izvođač će izraditi u kompletu: tri (3) tiskana primjerka i 1 digitalna kopija; te po jedan komplet predati Inženjeru i Naručitelju. Obračun po kompletu izrađenog i od Nadzornog Inženjera i Naručitelja usvojenog Plana izvođenja radova. | C14: komplet | D14: 1 | F14: =ROUND(D14*ROUND(E14,2),2) -> 0
A15: A.11 | B15: Izrada fotodokumentacije postojećeg stanja predviđene trase sustava odvodnje i/ili vodoopskrbe, mikrolokacije svake pojedine crpne i/ili stanice za podizanje tlaka prije početka radova i završnog stanja nakon izvedbe radova. Fotodokumentaciju je potrebno detaljno izraditi na cijeloj trasi gradilišta cjevovoda. Pri izvođenju radova navedenih ovom stavkom, potrebno je obratiti pozornost na nekretnine neposredno uz trase, potporne ili ogradne zidove, ograde, križanja s postojećim instalacijama te izvedbu polaganja istih, karakteristične detalje objekata koji se ruše/obnavljaju i sl. Fotodokumentacija se predaje Naručitelju u dva (2) uvezana primjerka i jedan (1) primjerak u digitalnom obliku na CD-u. Obračun po kompletu izražene fotodokumentacije. | C15: komplet | D15: 1 | F15: =ROUND(D15*ROUND(E15,2),2) -> 0
A16: A.12 | B16: Izrada snimke izvedenog stanja na gradilištima sustava odvodnje i/ili vodoopskrbe te crpnih i stanica za podizanje tlaka, uključno sa kućnim priključcima (pripreme/rekonstrukcija). Stavkom je obuhvaćeno snimanje položaja gravitacijskih kolektora, tlačnih cjevovoda te crpnih i stanica za podizanje tlaka, priprema za kućne priključke, lokacije postojećih kućnih priključaka (rekonstrukcija), dubine cijevi te položaj okana. Snimanje cjevovoda mora se izvoditi dok je cjevovod još vidljiv (nezatrpan), odnosno nakon uspješno provedenih tlačnih proba i ispitivanja vodonepropusnosti. Snimak mora sadržavati i sve druge instalacije u blizini kolektora s geodetskim naznakama udaljenosti. Sve mora biti vezano na državni koordinatni sustav i visinsku izmjeru. U radove stavke uključeno je snimanje priključaka kanalizacije i vodoopskrbe. Cijena stavke sadrži sve terenske i uredske radove, situacijski plan trase u odgovarajućem mjerilu s naznačenim kotama terena i kotama nivelete okana te izradu položajnih skica lomnih točaka. Snimak izvedenog stanja mora biti izrađen prema važećim zakonima i pravilnicima te pogodan za evidentiranje izgrađenih građevina u katastarskom operatu. Predaja dokumentacije u tiskanom (3 primjerka) i digitalnom obliku (2 medija-CD/DVD). Obračun po kompletu izrađenih snimki na gradilištu. | C16: komplet | D16: 1 | F16: =ROUND(D16*ROUND(E16,2),2) -> 0
A17: A.13 | B17: Izrada Projekta izvedenog stanja. Nužan sadržaj Projekta izvedenog stanja: - Sve izmjene i dopune na građevinama (tlačni cjevovodi, gravitacijski kolektori, crpne i stanice za podizanje tlaka, ostali objekti na trasi koji su predmet Projekta) koje su se dogodile tijekom gradnje u odnosu na Glavni i Izvedbeni projekt - Situacijski plan trase cjevovoda i objekata u MJ 1:1000 (ili prikladno mjerilo katastra) - Sve izvedene trase cjevovoda (uključeni i priključci) u vidu uzdužnih profila (kote nivelete i terena, dna rova, položaj i dubina cijevi te okana te položaj i skicu lomnih točaka cjevovoda), poprečnih presjeka, izvedbenih detalja i radioničkih nacrta sa svim objektima na mreži uz opis svih parametara i funkcije izvedenih vodova prema Glavnom i Izvedbenom projektu. Svako zasunsko okno, uz grafički (montažerski) nacrt u .dwg formatu, mora imati i fotografije (sferne i usmjerene) u .jpg formatu, na kojima će jasno biti vidljiv sav ugrađeni vodovodni material. Uz zasunska okna, za potrebe unosa u GIS, dostaviti i fotografije hidranata, vodomjernih okana te priključnih kapa na način da se prikaže i položaj (okruženje) elementa vodoopskrbe, radi lakšeg lociranja u prostoru. Projektom izvedenog stanja trebaju biti obuhvaćene i sve izmjene i dopune u odnosu na glavni i izvedbeni projekt. Projekt izvedenog stanja mora se kompletno napraviti u tri (3) zasebna uvezana tiskana primjerka i u jednoj (1) digitalnoj kopiji. Projekt dostaviti Naručitelju kao digitalnu geodetsku snimku u dwg formatu na CD-u, nakon završetka radova, a prije tehničkog pregleda. Obračun po kompletu izrađenog projekta. | C17: komplet | D17: 1 | F17: =ROUND(D17*ROUND(E17,2),2) -> 0
A19: REKAPITULACIJA
A20: =A4 -> A | B20: =B4 -> OPĆE STAVKE | C20: =F4 -> 0
B21: UKUPNO | C21: =C20 -> 0

Sheet B_Građevinski
A1: Rekonstrukcija i izgradnja vodoopskrbne mreže i izgradnja kanalizacijske mreže u Ulici Miroslava Krleže u Orahovici
A2: =Rekapitulacija!A5 -> B GRAĐEVINSKI RADOVI
A3: Broj | B3: Opis | C3: Jedinica mjere | D3: Količina | E3: Jedinična cijena | F3: Ukupna cijena
A4: B.1 | B4: PRIPREMNI RADOVI | F4: =SUM(F5:F8) -> 0
A5: B.1.1 | B5: Iskolčenje trase vodoopskrbnih i kanalizacijskih cjevovoda i stanice za podizanje tlaka. Rad obuhvaća sve radove na obilježavanju i lociranju trase s upisivanjem oznaka i osiguranja te izradu elaborata iskolčenja. Obračun po m' iskolčene trase. | C5: m' | D5: 1213 | F5: =D5*E5 -> 0
A6: B.1.2 | B6: Strojno uklanjanje šiblja, grmlja i čišćenje terena na trasi cjevovoda u širini od 1 do 2 m sa guranjem na udaljenost od 20 m s utovarom u kamion i odvozom na deponiju.Sav trošak deponiranog materijala snosi izvođač radova. Točne količine definirati će izvođač uz suglasnost s nadzornim inženjerom upisom u građevinski dnevnik. Obračun po m2 iskrčene trase. | C6: m2 | D6: 400 | F6: =D6*E6 -> 0
A7: B.1.3 | B7: Sječa stabala motornom pilom sa slaganjem na udaljenost 20 m te vađenje korijenja. Točne količine utvrditi će izvođač uz suglasnost s nadzornim inženjerom upisom u građevinski dnevnik. Obračun po komadu odsječenog stabla. | C7: kom | D7: 7 | F7: =D7*E7 -> 0
A8: B.1.4 | B8: Ručni iskop kontrolnih rovova prije početka radova na trasi predmetnih cjevovoda radi kontrole lociranja podzemnih instalacija. Širina kontrolnog rova je 0,6 m, dubine 2,0 m i duljine 1,2 m. Točnu lokaciju, raspored i broj kontrolnih rovova odredit će nadzorni inženjer u dogovoru s izvođačem radova, na osnovu uvida u situaciju instalacija kao i temeljem dobivenih informacija od vlasnika instalacija. Iskop obavljati pažljivo kako ne bi došlo do oštećenja instalacije te ozljeda na radu. Stavkom je obuhvaćeno i zatrpavanje kontrolnih rovova. Sve kontrolne rovove i stanje na terenu upisati u građevinski dnevnik. Obračun po m3 iskopa. | C8: m3 | D8: 13 | F8: =D8*E8 -> 0
A9: B.2 | B9: ZEMLJANI RADOVI | F9: =SUM(F10:F27) -> 0
A10: B.2.1 | B10: Raskopavanje i dovođenje u prvobitno stanje postojećih asfaltnih površina na mjestima gdje se cjevovod polaže ispod parkirališta, kolnih i pješačkih ulaza. Rad obuhvaća obilježavanje širine raskopavanja, strojno zasijecanje asfaltnog kolnika, raskopavanje tucaničke ili šljunčane te odlaganje raskopanog materijala. Nakon zatrpavanja cjevovoda, izvesti tamponski sloj od drobljenog kamenog materijala, granulacije 0-63 mm, min. debljine 35 cm uz nabijanje do postizanja modula zbijenosti min. 100 MN/m2 mjereno pločom ø 30 cm. Na tamponskom sloju izvesti asfaltni zastor u dva sloja, nosivi sloj od asfalt-betona debljine 6 cm i habajući sloj debljine 4 cm. Obračun po m2 raskopanog asfalta. | C10: m2 | D10: 10 | F10: =D10*E10 -> 0
A11: B.2.2 | B11: Raskopavanje i dovođenje u prvobitno stanje postojećih betonskih površina na trasi cjevovoda (kolni ulaz, nogostup, cijevni propust i sl.). Rad obuhvaća obilježavanje širine raskopavanja, odsijecanje sjekačem ili piljenje - razbijanje betonskog sloja debljine cca 5-10 cm, raskopavanje tucaničke ili šljunčane podloge te odlaganje raskopanog materijala u stranu 2 - 3 m. Zatim nakon zatrpavanja cjevovoda ponovna izrada i nabijanje podloge od drobljenog kamenog materijala ili šljunka (granulacije 0-63 mm) min. debljine 20 cm sa zbijanjem do postizanja modula stišljivosti Ms=50 MN/m2 te betoniranje betonom razreda tlačne čvrstoće C 16/20, debljine 10 cm i obrada površine zaglađivanjem tj. dovođenje u prvobitno stanje. Stavka uključuje nabavu, dopremu i ugradnju cjelokupnog potrebnog materijala te odvoz raskopanog materijala na deponiju po izboru izvođača i odobrenju nadležne komunalne službe,uključujući trošak pristojbe na deponiji.Sav trošak deponiranog materijala snosi izvođač radova. Točne količine utvrdit će izvođač uz suglasnost s nadzornim inženjerom upisom u građevinski dnevnik. Obračun po m2 raskopanog betona. | C11: m2 | D11: 20 | F11: =D11*E11 -> 0
A12: B.2.3 | B12: Iskop rova u tlu C kategorije za polaganje cjevovoda od PEHD vodovodnih cijevi profila DN 110 i PVC kanalizacijskih cijevi profila DN 250. Širina rova iznosi od 50 cm do 120 cm, prema normalnom profilu, a prosječna dubina prema uzdužnom profilu. Rov kopati strojno s pravilnim odsjecanjem bočnih strana i dna te utovarom u kamione. Iskop je predviđen strojno i ručno duž cijele trase cjevovoda, a zbog položenih podzemnih instalacija neophodno ga je obavljati pažljivo. Stavkom je obuhvaćeno i grubo planiranje dna rova. Količine iskopa rova dane su prema priloženoj dokaznici mjera zemljanih radova. Ocjenjeno je da bi se 90 % iskopa izvodilo strojno, a 10 % iskopa ručno. Točan predmjer ručnog i strojnog iskopa određuje nadzorna služba upisom u građevinski dnevnik i evidencijom, obračunom u građevinskoj knjizi. U jediničnu cijenu iskopa zemljanog materijala uračunato je i potrebno snižavanje nivoa podzemne vode odnosno crpljenje prijenosnim crpkama prema potrebi. Naročito obratiti pažnju na širinu i dubinu rova (da bude točno prema nacrtu), tj. da slijedi niveletu iskopa. Obračun po m3 iskopanog materijala. ukupno 1624 m3
A13: B.2.3.1 | B13: strojni iskop | C13: m3 | D13: 1461 | F13: =D13*E13 -> 0
A14: B.2.3.2 | B14: ručni iskop | C14: m3 | D14: 163 | F14: =D14*E14 -> 0
A15: B.2.4 | B15: Ručno planiranje dna rova na određene kote prema uzdužnom profilu s izbacivanjem suvišnog materijala i odvozom na deponiju po izboru izvođača i odobrenju nadležne komunalne službe. Radove izvesti s točnošću ± 2 cm. Obračun po m2 isplaniranog dna. | C15: m2 | D15: 762 | F15: =D15*E15 -> 0
A16: B.2.5 | B16: Nabava, doprema i ugradnja pijeska za izradu posteljice za polaganje cjevovoda, debljine prosječno 10 cm. Rad obuhvaća nabavu, dopremu, razvoz, ubacivanje i razastiranje pijeska. Podlogu je nužno pravilno razastrti i grubo poravnati za osiguranje pravilnog polaganja cijevi. Obračun po m3 ugrađenog pijeska.
A17: B.2.5.1 | B17: Nabava i doprema | C17: m3 | D17: 76.2 | F17: =D17*E17 -> 0
A18: B.2.5.2 | B18: Ugradnja | C18: m3 | D18: 76.2 | F18: =D18*E18 -> 0
A19: B.2.6 | B19: Nabava, doprema i ugradnja pijeska za zatrpavanje rova cjevovoda do visine 20 cm iznad tjemena cijevi. Rad obuhvaća nabavu, dopremu, razvoz, ubacivanje i razastiranje s hidrauličkim nabijanjem do potpune zbijenosti i to tako da se ne oštete cijevi. Spojeve cijevi ostaviti otvorene do tlačne probe radi provjere spojeva. Radove izvesti strojno i ručno a posebnu pozornost obratiti da se pri zatrpavanju na ubacuju kameni i betonski komadi kako se ne bi oštetile cijevi. Obračun po m3 ugrađenog pijeska.
A20: B.2.6.1 | B20: Nabava i doprema | C20: m3 | D20: 258 | F20: =D20*E20 -> 0
A21: B.2.6.2 | B21: Ugradnja | C21: m3 | D21: 258 | F21: =D21*E21 -> 0
A22: B.2.7 | B22: Nabava, doprema i ugradnja drobljenog kamenog materijala ili šljunka (granulacije 0-63 mm) na dijelu trase ispod prometnih površina koje se prekopavaju (ceste, putovi, bankine, kolni prilazi i bankine) - zamjena materijala. Zatrpavanje se vrši u slojevima do visine konstrukcije prema detalju u prilogu, uz nabijanje do postizanja potpune zbijenosti. Obračun po m3 ugrađenog šljunka.
A23: B.2.7.1 | B23: Nabava i doprema | C23: m3 | D23: 1000 | F23: =D23*E23 -> 0
A24: B.2.7.2 | B24: Ugradnja | C24: m3 | D24: 1000 | F24: =D24*E24 -> 0
A25: B.2.8 | B25: Strojno zatrpavanje iskopanog rova materijalom iz iskopa uz pažljivo nabijanje u slojevima do 30 cm do visine okolnog terena. Zbijenost u visini posteljice mora iznositi min. 20 MN/m2. Posebnu pozornost obratiti da se pri zatrpavanju ne ubacuju kameni i betonski komadi kako se ne bi oštetio cjevovod. Prije početka zatrpavanja obavezno pregledati cjevovod i ustanoviti da slučajno nema nekih mehaničkih oštećenja. Kad se ustanovi ispravnost cjevovoda, može se pristupiti zatrpavanju. U cijenu uračunato i uređenje okoliša i dovođenje u prvobitno stanje. Obračun po m3 zatrpanog rova. | C25: m3 | D25: 214 | F25: =D25*E25 -> 0
A26: B.2.9 | B26: Ponovni iskop ili čišćenje kanala te uređenje pokosa kanala. Točne količine iskopa i uređenja pokosa određuje nadzorna služba upisom u građevinski dnevnik i evidencijom, obračunom u građevinskoj knjizi. Obračun po m’ uređenog kanala. | C26: m' | D26: 70 | F26: =D26*E26 -> 0
A27: B.2.10 | B27: Odvoz materijala iz iskopa rova cjevovoda na deponiju, po izboru izvođača i odobrenju nadležne komunalne službe. Stavkom je obuhvaćen odvoz, istovar i planiranje te trošak pristojbe na deponiji. Izračun je izvršen za materijal u sraslom stanju. Obračun prema stvarnim količinama utvrđenim od strane nadzornog inženjera. Sav trošak deponiranog materijala snosi izvođač radova. Obračun po m3 odvezenog materijala. | C27: m3 | D27: 1384 | F27: =D27*E27 -> 0
A28: B.3 | B28: TESARSKI RADOVI | F28: =F29 -> 0
A29: B.3.1 | B29: Bočno razupiranje stranica rova za srednje opterećenje tla. Razupiranje se izvodi cijelom duljinom trase. | C29: m2 | D29: 4868 | F29: =D29*E29 -> 0
A30: B.4 | B30: BETONSKI RADOVI | F30: =SUM(F31:F82) -> 0
A31: B.4.1 | B31: Izrada armiranobetonske stanice za podizanje tlaka unutarnjih dimenzija 250x450 cm, svijetle dubine 2,0 m, spuštene 0,2 m ispod površine terena, smještene dijelom u bankini, a dijelom u zelenoj površini. U cijenu je uključena nabava i doprema potrebnog materijala te sav potreban rad. Cijenom je obuhvaćeno:
A32: B.4.1.1 | B32: - iskop građevne jame u tlu C kategorije te nakon izvedbe stanice i postavljanja elektro ormarića, zatrpavanje građevne jame materijalom iz iskopa; stavka obuhvaća bočno osiguranje stranica iskopa od urušavanja | C32: m3 | D32: 190 | F32: =D32*E32 -> 0
A33: B.4.1.2 | B33: - planiranje dna jame, nasipanje šljunčane podloge debljine 10 cm te ugradnja podložnog betona debljine 10 cm razreda tlačne čvrstoće C 16/20 | C33: m2 | D33: 18.2 | F33: =D33*E33 -> 0
A34: B.4.1.3 | B34: - izrada dvostrane oplate za zidove stanice | C34: m2 | D34: 66.4 | F34: =D34*E34 -> 0
A35: B.4.1.4 | B35: - izrada oplate za gornju ploču stanice | C35: m2 | D35: 20.9 | F35: =D35*E35 -> 0
A36: B.4.1.5 | B36: - nabava, doprema i ugradnja armature
A37: B.4.1.5.1 | B37: Mreža: B500A | C37: kg | D37: 950 | F37: =D37*E37 -> 0
A38: B.4.1.5.2 | B38: Šipke: B500A i B500B | C38: kg | D38: 950 | F38: =D38*E38 -> 0
A39: B.4.1.6 | B39: - nabava, doprema i ugradnja betona razreda tlačne čvrstoće C 30/37 za razred izloženosti XC2, sa dodatkom za vodonepropusnost (klasa vodonepropusnosti VDP 2), za donju i gornju ploču te zidove stanice | C39: m3 | D39: 14.5 | F39: =D39*E39 -> 0
A40: B.4.1.7 | B40: - obloga cjevovoda na mjestima prodora kroz stijenke stanice bubrivom hidrofilnom trakom, poprečnog presjeka 20x25 mm | C40: m' | D40: 0.8 | F40: =D40*E40 -> 0
A41: B.4.1.8 | B41: - izrada i ugradnja pocinčanih ljestava, visine 220 cm, minimalne širine 45 cm, s vertikalnim razmakom 30 cm između stupaljki | C41: kom | D41: 1 | F41: =D41*E41 -> 0
A42: B.4.1.9 | B42: INOX poklopca dim. 600x600 mm u kvadratnom okviru obračunat je u Strojarskom projektu - Mapa 2
A43: B.4.1.10 | B43: Dvodijelni INOX poklopac ukupnih dimenzija 2000x1000 mm obračunat je u Strojarskom projektu - Mapa 2
A44: B.4.1.11 | B44: - nabava, doprema i ugradnja drobljenog kamenog materijala ili šljunka (granulacije 0-63 mm) za izvedbu završnog stabilizacijskog sloja debljine 20 cm u bankini prometnice. Zatrpavanje se izvodi uz nabijanje do postizanja modula zbijenosti min. 50 MN/m2; obračun po m3 ugrađenog materijala. | C44: m3 | D44: 2
A45: B.4.1.12 | B45: - utovar, odvoz i istovar viška materijala na trajnu deponiju po izboru izvođača. Sav trošak deponiranog materijala snosi izvođač radova. | C45: m3 | D45: 87 | F45: =D45*E45 -> 0
A46: B.4.2 | B46: Izrada AB zasunskog okna unutarnjih dimenzija 140x140 cm, dubine 1,8 m, sa spuštenom gornjom pločom 20 cm ispod površine terena, smještenog u zelenoj površini. U cijenu je uključena nabava i doprema potrebnog materijala te sav potreban rad. Cijenom je obuhvaćeno:
A47: B.4.2.1 | B47: - široki iskop zemlje C kategorije za izvedbu okna tj. proširenje i produbljenje iskopanog rova te nakon izvedbe okna zatrpavanje građevne jame | C47: m3 | D47: 58 | F47: =D47*E47 -> 0
A48: B.4.2.2 | B48: - planiranje dna jame, nasipanje šljunčane podloge debljine 10 cm te ugradnja podložnog betona debljine 10 cm razreda tlačne čvrstoće C 16/20 | C48: m2 | D48: 9 | F48: =D48*E48 -> 0
A49: B.4.2.3 | B49: - izrada dvostrane oplate za zidove okna | C49: m2 | D49: 54 | F49: =D49*E49 -> 0
A50: B.4.2.4 | B50: - izrada oplate za gornju ploču okna | C50: m2 | D50: 4 | F50: =D50*E50 -> 0
A51: B.4.2.5 | B51: - nabava, doprema i ugradnja armature
A52: B.4.2.5.1 | B52: Mreža: B500A | C52: kg | D52: 610 | F52: =D52*E52 -> 0
A53: B.4.2.5.2 | B53: Šipke: B500A i B500B | C53: kg | D53: 610 | F53: =D53*E53 -> 0
A54: B.4.2.6 | B54: - nabava, doprema i ugradnja betona razreda tlačne čvrstoće C 30/37 za razred izloženosti XC2, XC4 i XF3, sa dodatkom za vodonepropusnost (klasa vodonepropusnosti VDP 2), za donju i gornju ploču te zidove okna | C54: m3 | D54: 9 | F54: =D54*E54 -> 0
A55: B.4.2.7 | B55: - obloga cjevovoda na mjestima prodora kroz stijenke okna hidrofilnom bubrećom trakom poprečnog presjeka 20x25 mm | C55: m' | D55: 8 | F55: =D55*E55 -> 0
A56: B.4.2.8 | B56: - izrada i ugradnja pocinčanih ljestava, visine oko 150 cm, minimalne širine 45 cm, s vertikalnim razmakom 30 cm između stupaljki | C56: kom | D56: 2 | F56: =D56*E56 -> 0
A57: B.4.2.9 | B57: - ugradnja lijevano-željeznog poklopca dim. 600x600 mm u kvadratnom okviru, klase A15 (N=50 kN) u skladu s normom HRN EN 124 | C57: kom | D57: 2 | F57: =D57*E57 -> 0
A58: B.4.2.11 | B58: - utovar, odvoz i istovar viška materijala na trajnu deponiju po izboru izvođača. Sav trošak deponiranog materijala snosi izvođač radova. | C58: m3 | D58: 18 | F58: =D58*E58 -> 0
A59: B.4.3 | B59: Izrada AB zasunskog okna unutarnjih dimenzija 140x140 cm, dubine 1,8 m, sa spuštenom gornjom pločom 20 cm ispod površine terena, smještenog u bankini. U cijenu je uključena nabava i doprema potrebnog materijala te sav potreban rad. Cijenom je obuhvaćeno:
A60: B.4.3.1 | B60: - iskop zemlje C kategorije za izvedbu okna tj. proširenje i produbljenje iskopanog rova; stavka uključuje bočno osiguranje stranica iskopa od urušavanja | C60: m3 | D60: 58 | F60: =D60*E60 -> 0
A61: B.4.3.2 | B61: - planiranje dna jame, nasipanje šljunčane podloge debljine 10 cm te ugradnja podložnog betona debljine 10 cm razreda tlačne čvrstoće C 16/20 | C61: m2 | D61: 9 | F61: =D61*E61 -> 0
A62: B.4.3.3 | B62: - izrada dvostrane oplate za zidove okna | C62: m2 | D62: 54 | F62: =D62*E62 -> 0
A63: B.4.3.4 | B63: - izrada oplate za gornju ploču okna | C63: m2 | D63: 4 | F63: =D63*E63 -> 0
A64: B.4.3.5 | B64: - nabava, doprema i ugradnja armature
A65: B.4.3.5.1 | B65: Mreža: B500A | C65: kg | D65: 610 | F65: =D65*E65 -> 0
A66: B.4.3.5.2 | B66: Šipke: B500A i B500B | C66: kg | D66: 610 | F66: =D66*E66 -> 0
A67: B.4.3.6 | B67: - nabava, doprema i ugradnja betona razreda tlačne čvrstoće C 30/37 za razred izloženosti XC2, XC4 i XF3, sa dodatkom za vodonepropusnost (klasa vodonepropusnosti VDP 2), za donju i gornju ploču te zidove okna | C67: m3 | D67: 9 | F67: =D67*E67 -> 0
A68: B.4.3.7 | B68: - obloga cjevovoda na mjestima prodora kroz stijenke okna hidrofilnom bubrećom trakom poprečnog presjeka 20x25 mm | C68: m' | D68: 8 | F68: =D68*E68 -> 0
A69: B.4.3.8 | B69: - izrada i ugradnja pocinčanih ljestava, visine oko 150 cm, minimalne širine 45 cm, s vertikalnim razmakom 30 cm između stupaljki | C69: kom | D69: 2 | F69: =D69*E69 -> 0
A70: B.4.3.9 | B70: - ugradnja lijevano-željeznog poklopca dim. 600x600 mm u kvadratnom okviru, klase C250 (N=250 kN) u skladu s normom HRN EN 124 | C70: kom | D70: 2 | F70: =D70*E70 -> 0
A71: B.4.3.10 | B71: - nakon izvedbe okna zatrpavanje građevne jame drobljenom kamenom mješavinom (0-63 mm) sa zbijanjem u slojevima 30 cm do postizanja potpune zbijenosti | C71: m3 | D71: 40 | F71: =D71*E71 -> 0
A72: B.4.3.11 | B72: - utovar, odvoz i istovar viška materijala na trajnu deponiju po izboru izvođača. Sav trošak deponiranog materijala snosi izvođač radova. | C72: m3 | D72: 58 | F72: =D72*E72 -> 0
A73: B.4.4 | B73: Izrada betonskih ukrućenja cjevovoda betonom razreda tlačne čvrstoće C 16/20. U cijenu je uključena i nabava potrebnog materijala i ugradnja betona sa potrebnom njegom betona prema TPGK. U cijenu je uračunata izrada, postavljanje i skidanje oplate koja će se premještati s lokacije na lokaciju. U cijenu je uračunato i uzimanje uzoraka sukladno programu uzimanja uzoraka. Obračun po m3 ugrađenog betona. | C73: m3 | D73: 4 | F73: =D73*E73 -> 0
A74: B.4.5 | B74: Nabava, doprema i ugradnja kružnih podložnih ploča za ugradnju lijevano željeznih uličnih kapa iznad ugradbenih garnitura zasuna. Obračun po komadu ugrađene podložne ploče. | C74: kom | D74: 8 | F74: =D74*E74 -> 0
A75: B.4.6 | B75: Izrada betonskih ploča za stabilizaciju uličnih kapa ugradbenih garnitura zasuna i hidranata, na lokacijama hidranata. Ploče za stabilizaciju su dimenzija 1,2x0,8x0,1 m, a izvest će se u ravnini okolnog terena, na tamponskom sloju drobljenog kamenog materijala debljine 10 cm, od betona klase C 16/20. Agregat prema HRN EN 12620., vode prema HRN EN 1008, cement prema HRN EN 197-1. U cijenu je uračunata izrada, postavljanje i skidanje oplate kao i dobava i ugradnja betona. Stavka obuhvaća nabavu, dopremu materijala te sve potrebne zemljane, betonske, tesarske i ostale radove na izvedbi betonskih stabilizacijskih ploča. Obračun po komadu ploče. | C75: kom | D75: 8 | F75: =D75*E75 -> 0
A76: B.4.7 | B76: Nabava, doprema i ugradnja betona razreda tlačne čvrstoće C12/15 za izradu podloge ispod kontrolnih okana, debljine 10 cm na podložnom sloju drobljene kamene mješavine debljine 10 cm. Obračun po kom izvedene podloge. | C76: kom | D76: 19
A77: B.4.8 | B77: Izrada, doprema i ugradnja betona za izradu temeljne ploče kod PE revizijskih okana. Koristiti beton tlačne čvrstoće C25/30, razreda izloženosti XC2, te armirati prema armaturnom planu (izraditi u sklopu Izvedbenog projekta). Miješanje betona strojno, obrada pervibratorom. Jedinična cijena stavke sadrži sav potreban rad i materijal, potrebnu oplatu, armaturu, te sve potrebne pripomoći i transporte. Obračun po kom ugrađene AB ploče okna.
A78: B.4.9 | B78: Izrada, doprema i ugradnja sloja stabilizacijskog betona za zaštitu PE revizijskih okana od uzgona. Dimenzije ploče za oka fi 600 i 800mm su 1,1m x 1,1 m, a za okna fi 1000mm su 1,3m x 1,3 mKoristiti beton tlačne čvrstoće C25/30, razreda izloženosti XC2 te armirati prema armaturnom planu (izraditi u sklopu Izvedbenog projekta). Miješanje betona strojno, obrada pervibratorom. Jedinična cijena stavke sadrži sav potreban rad i materijal, potrebnu oplatu, armaturu te sve potrebne pripomoći i transporte. Obračun po m3 ugrađenog betona i kg ugrađene armature.
A79: B.4.9.1 | B79: temeljna ploča okana DN 1000 mm | C79: kom | D79: 4 | F79: =D79*E79 -> 0
A80: B.4.9.2 | B80: temeljna ploča okana DN 600 i DN 800 mm | C80: kom | D80: 15 | F80: =D80*E80 -> 0
A81: B.4.10 | B81: Izrada, doprema i ugradnja armirano-betonskih rasteretnih ploča PE kanalizacijskih okana. Ploču izraditi iz betona tlačne čvrstoće C30/37, razreda izloženosti XC4, XF2 , dimenzije ploče 1,5m x 1,5m, od betona razreda tlačne čvrstoće C30/37 te armirati prema armaturnom planu (izraditi u sklopu Izvedbenog projekta). U ovoj stavci je obračunat i beton za izjednačanavanje iste tlačne čvrstoće i razreda izloženosti kao kod pokrovne ploče (prosječno 0,11 m3 po oknu). Kod armiranja ugraditi ankere radi lakše manipulacije i transporta elemenata na mjesto ugradnje. U pokrovnoj ploči ostaviti otvor za ugradnju lijevano željeznog tipskog poklopca sukladno zasebnim podstavkama. Miješanje betona strojno, obrada pervibratorom. Neposredno prije polaganja ab nožice ploče izvesti nabijeni sloj od drobljenog kamena debljine 15 cm i zbijenog do Ms>80MN/m2. Pokrovna ploča ne smije nalijegati direktno na samu stijenku okna. U cijenu stavke je uključena i nabava, doprema i ugradnja drobljenog kamena ispod ab ploče ( 0,25 m3 po ploči ) i vodonepropusne bubrive brtvene trake za ugradnju između bočnih stijenki okna i ab temelja ploče okna. Jedinična cijena stavke sadrži sav potreban rad i materijal, potrebnu oplatu, armaturu, dobetoniravanje temelja i ploče te sve potrebne pripomoći i transporte. Obračun po kom ugrađene AB ploče okna. | C81: kom | D81: 19 | F81: =D81*E81 -> 0
A82: B.4.11 | B82: Nabava, doprema i ugradnja betona razreda tlačne čvrstoće C25/30 za izradu kineta u kontrolnim oknima. Obavezna kontrola nivelete prema uzdužnom profilu. Stavka obuhvaća zaštitu (njegu) svježeg betona od isparavanja i ekstremnih temperatura koje bi mogle negativno utjecati na zahtijevanu kvalitetu betona. | C82: kom | D82: 19 | F82: =D82*E82 -> 0
A83: B.5 | B83: MONTAŽERSKI RADOVI NA IZVEDBI VODOOPSKRBNIH CJEVOVODA | F83: =SUM(F84:F144) -> 0
A84: B.5.1 | B84: Nabava, doprema i ugradnja PEHD vodovodnih cijevi prema HRN EN 12201-2:2013 ili jednakovrijedno. Cijevi se međusobno spajaju sučeonim zavarivanjem i spojnicama. Cijevi trebaju biti nazivnog tlaka PN10 bar, iz grupe PE 100 (po MRS klasifikaciji), SDR 17. Iskazana dužina cijevi odgovara dužini trase izvedenog cjevovoda odnosno ugrađenih cijevi. Jediničnom cijenom obuhvaćena je i rezervna dužina kojom se nadomještaju neophodna rezanja i skraćivanja cijevi duž trase. Obračun po m' ugrađene tlačne cijevi s pripadnim spojnim i brtvenim materijalom. Obračun po m’ postavljenog cjevovoda.
A85: B.5.1.1 | B85: Nabava i doprema U cijenu je uključena nabava sveg potrebnog spojnog i brtvenog materijala.
A86: B.5.1.1.1 | B86: PEHD cijevi DN 110 | C86: m' | D86: 661 | F86: =D86*E86 -> 0
A87: B.5.1.1.2 | B87: PEHD cijevi DN 90 | C87: m' | D87: 3 | F87: =D87*E87 -> 0
A88: B.5.1.2 | B88: Ugradnja U cijenu je uključeno razvoženje, spuštanje u rov i ugradnja.
A89: B.5.1.2.1 | B89: PEHD cijevi DN 110 | C89: m' | D89: 661 | F89: =D89*E89 -> 0
A90: B.5.1.2.2 | B90: PEHD cijevi DN 90 | C90: m' | D90: 3 | F90: =D90*E90 -> 0
A91: B.5.2 | B91: Nabava, doprema i ugradnja fazonskih komada i armatura od nodularnog lijeva GGG 40 s unutarnjom i vanjskom zaštitom prema HRN EN 545:2010 ili jednakovrijedno, prirubnički spoj NP 10, komplet s materijalom za brtvljenje, pričvršćivanje i izoliranjeu. U cijenu je uključeno raznošenje i spuštanje u okno te sav potrebni spojni i brtveni materijal. Vijke treba izolirati hladnim bitumenskim premazom, a prethodno moraju biti očišćeni i osušeni. Fazonski komadi i armature ugrađuju se prema montažnim nacrtima. Obračun po komadu montiranih fazona, armatura i brtvenog materijala.
A92: B.5.2.1 | B92: Nabava i doprema U cijenu je uključena nabava sveg potrebnog spojnog i brtvenog materijala.
A93: B.5.2.1.1 | B93: T kom. DN 150/100 | C93: kom | D93: 1 | F93: =D93*E93 -> 0
A94: B.5.2.1.2 | B94: T kom. DN 100/100 | C94: kom | D94: 1 | F94: =D94*E94 -> 0
A95: B.5.2.1.3 | B95: T kom. DN 100/80 | C95: kom | D95: 6 | F95: =D95*E95 -> 0
A96: B.5.2.1.4 | B96: FF kom. DN 80 L=200 mm | C96: kom | D96: 10 | F96: =D96*E96 -> 0
A97: B.5.2.1.5 | B97: FF kom. DN 80 L=100 mm | C97: kom | D97: 1 | F97: =D97*E97 -> 0
A98: B.5.2.1.6 | B98: XR kom. DN 100/80 | C98: kom | D98: 2 | F98: =D98*E98 -> 0
A99: B.5.2.1.7 | B99: N kom. DN 80 | C99: kom | D99: 8 | F99: =D99*E99 -> 0
A100: B.5.2.1.8 | B100: Spojnica za PEHD cijevi DN 150/160 | C100: kom | D100: 2 | F100: =D100*E100 -> 0
...

Sheet C_Strojarski
A1: Rekonstrukcija i izgradnja vodoopskrbne mreže i izgradnja kanalizacijske mreže u Ulici Miroslava Krleže u Orahovici
A2: =Rekapitulacija!A6 -> C STROJARSKI RADOVI
A3: NAPOMENE: Prije narudžbe opreme i izvedbe radova provjeriti na građevini mogućnost montaže i izvedbe sustava i opreme. Koordinirati se s drugim izvođačima prema terminskom planu. U slučaju nuđenja jednakovrijedne opreme koja nije obrađena projektnom dokumentacijom zbog specifičnosti strojarske opreme i sustava upravljanja, jednakovrijednost opreme se dokazuje dostavom odgovarajućih atesta, certifikata, normi uređaja i opreme i sl. Nuđena oprema mora zadovoljiti uvjete: * toplinska snaga manja do -5% * pad tlaka uređaja veći do +5% * električna snaga veća do +5% * učinkovitost uređaja manja do -2% * dimenzije uređaja provjeriti kod prostornog ograničenja * ista ili bolja automatska regulacija uređaja * ista ili bolja servisna mreža uređaja * isti ili dulji jamstveni rok uređaja * dodatni zahtjevi prema uvjetima naručitelja Navedene stavke uključuju nabavu, dopremu na gradilište te ugradnju specificiranog materijala i opreme. Cijenom je potrebno obuhvatiti svu potrebnu opremu i pribor za ugradnju do potpunog kompletiranja svake pojedine stavke. Kod dijelova cjevovoda iz "crnog" čelika koji su položeni u zemlju, obvezatan je sljedeći postupak antikorozivne zaštite: čišćenje do II stupnja, nanošenje tankog bitumenskog premaza u hladnom stanju, nanošenje tankog bitumenskog premaza u toplom stanju, spiralno namotavanje staklene vune ili drugog podobnog tekstilnog materijala natopljenog bitumenom, nanošenje drugog bitumenskog sloja u toplom stanju, spiralno namotavanje staklene vune ili drugog pogodnog tekstilnog materijala, nanošenje trećeg bitumenskog sloja u toplom stanju te kao završni sloj, nanošenje vapnenog mlijeka. Navedene duljine cijevi unutar objekta ovise o tipu ugrađene opreme i izvedenom stanju građevinskog objekta te ih valja shvatiti samo paušalno. Stoga se svi cjevovodi, fazoni i prirubnice izrađene od nehrđajućeg čelika isporučuju NEZAVARENI, pojedinačno u skladu sa specifikacijom u troškovniku. Zavarivanje pojedinih cijevnih elemenata i fazona te završnu izradu pozicija izvršiti u radionici tek nakon provjere stvarno izvedenih kota okna crpne stanice i ugrađene opreme. Po mogućnosti, sva zavarivanja izvršiti u povoljnim radioničkim uvjetima. Sve cijevi, armatura i dr. NP10, osim ako stavkom nije drukčije specificirano. Izvođač je dužan o svom trošku osigurati gradilište i građevinu od štetnog utjecaja vremenskih nepogoda. U svim stavkama koje uključuju odvoz viška materijala na odlagalište ili deponiju, jedinične cijene moraju uključivati sve troškove deponiranja i održavanje deponije, uključujući obavezu izvođača radova da pronađe odlagalište. Sav trošak deponiranog materijala snosi izvođač radova. Izvođač je dužan izvesti pomoćna sredstva za rad kao što su skele, ograde, skladišta, dizalice, dopremiti i postaviti strojeve, alat, potreban pribor itd. te poduzeti sve mjere sigurnosti da ne dođe do smetnji i opasnosti po život i zdravlje zaposlenika, drugog osoblja i prolaznika. Svaka eventualna šteta koja bi bila prouzročena prolazniku, susjednoj građevini, cesti itd. pada na teret izvođača koji je dužan ukloniti i nadoknaditi štetu u određenom roku. Nadzor glede čuvanja građevine, gradilišta, postrojenja, alata i materijala pada na teret izvoditelja. Jedinične cijene pojedinih stavki troškovnika sadržavaju troškove za posve dogotovljen rad. One uključuju materijal, pomoćna sredstva kao što su voda, električna energija, alat, oplata, skela ili slično, za svu radnu snagu, za sve pripremne radove (kao npr. postavljanje baraka i postrojenja, uključivo s demontažom i otpremom s gradilišta nakon završetka radova i druge troškove koji se u bilo kojem obliku pojave za potrebe gradnje). Čišćenje i uređenje gradilišta također je sadržano u jediničnim cijenama. Prije davanja ponude, izvođač mora pregledati projektnu dokumentaciju te zatražiti objašnjenje za eventualne nejasne stavke te provjeriti dokaznicu mjera i na vrijeme dati svoje primjedbe. Kasnije primjedbe ne mogu se uzimati u obzir.
A4: Obračun radova provodi se prema tehničkim normativima i njihovim dopunama. Za slučaj da opis pojedinih radova u troškovniku po mišljenju izvoditelja ili bilo kojeg drugog sudionika u gradnji nije potpun, izvođač je dužan izvesti radove prema pravilima struke uz konzultaciju projektanta koji je jedini mjerodavan tumačiti dijelove svog projekta. Izvođač u potpunosti odgovara za ispravnost izvršene isporuke i odgovoran je za eventualno loš rad ili kvalitetu dobave iz trgovačke mreže ili podizvoditelja. Izvođač je dužan posjedovati potrebne certifikate za sve materijale i opremu koju ugrađuje u pojedini objekt, a prije tehničkog pregleda, svu dokumentaciju mora predati investitoru. Sve izmjene u projektu, opisu radova i jediničnim cijenama mogu uslijediti samo uz suglasnost projektanta i po odobrenju nadzornog inženjera (investitora). Isto vrijedi i u slučaju pojave bilo kakvih nepredviđenih okolnosti tijekom građenja. Trošak ispitivanja materijala pada na teret izvođača, tj. smatrat će se da su jediničnom cijenom u danoj ponudi obuhvaćena i navedena ispitivanja. Izvođač je dužan radove izvesti sukladno projektnoj dokumentaciji, pravilima struke, važećim zakonima, podzakonskim aktima, normama, propisima i uputama proizvođača materijala i opreme. Jedinične cijene pojedinih stavaka i nabave moraju sadržavati sve naknade za obavljeni rad, kao dostavu na gradilište i ugradnju, uključujući horizontalni i vertikalni prijenos. U jediničnim cijenama su sadržani i svi sporedni radovi kao na primjer: • izmjera potrebna za obračun • sav potreban alat • troškovi ispitivanja materijala, ali samo u slučaju ako je dokazano da izvođač instalacija nije upotrijebio odgovarajući materijal • odstranjivanje svih otpadaka i smeća s mjesta provedbe radova • popravke šteta počinjenih nepažnjom na tuđim i vlastitim radovima. Trošak ispitivanja materijala pada na teret izvođača, tj. smatrat će se da su jediničnom cijenom u danoj ponudi obuhvaćena i navedena ispitivanja. Izvođač je dužan radove izvesti sukladno projektnoj dokumentaciji, pravilima struke, važećim zakonima, podzakonskim aktima, normama, propisima i uputama proizvođača materijala i opreme. Navedene stavke uključuju nabavu, dopremu na gradilište te ugradnju specificiranog materijala i opreme. Cijenom je potrebno obuhvatiti svu potrebnu opremu i pribor za ugradnju do potpunog kompletiranja svake pojedine stavke. S obzirom na grube uvjete u kojima će cjevovodi i ostala oprema unutar crpne stanice i pratećih građevina funkcionirati, a koje karakterizira stalna izloženost vlazi iz zraka i kondenzatu, potrebno je primjeniti sustav zaštite Č. površina za sredine s agresivnim atmosferskim uvjetima što obuhvaća EPOXY premaze osnovnih i pokrivnih slojeva ukupne debljine min. 250 μm. Sav antikorozijski materijal mora imati certifikat za pitku vodu. Ova napomena NE odnosi se na dijelove instalacija i konstrukcije izrađene od nehrđajućeg čelika. Sve cijevi, armatura i dr. nazivnog tlaka pruirubnice PN10 kako bi se zadržao raspored i broj rupa za vijke te omogućila montaža svih specificiranih dijelova.
A5: Broj | B5: Opis | C5: Jedinica mjere | D5: Količina | E5: Jedinična cijena | F5: Ukupna cijena
A6: C.1 | B6: ELEKTRO - POGONSKI UREĐAJI | F6: =SUM(F7:F21) -> 0
A7: C.1.1 | B7: Nabava, doprema i ugradnja hidrostanice s tri (3) radne crpke + 1 rezervna crpka. Hidrauličkih karakteristika:
B8: Radna točka 1 (normalni rad)
B9: Q = 1 l/s; H=15 mVS (režim rada - 1 radna crpka)
B10: Radna točka 2 (protupožarni rad)
B11: Q = 11 l/s; H=30 mVS (režim rada - 3 radne crpke)
B12: Hidrostanica s četiri paralelno spojene crpke montirane na zajednički okvir, ulaznim i izlaznim kolektorom (sve od nehrđajućeg čelika), armaturom, ormarićem za upravljanje sa ugrađenom mikroprocesorom kontroliranom jedinicom s LCD zaslonom u boji, s izbornikom na hrvatskom jeziku, mogućnošću automatske kaskadne kontrole crpki, frekventnom regulacijom, automatskom samokontrolom crpki te funkcijama zaštite i monitoringa crpki. Hidro stanica može raditi u režimu konstantnog i proporcionalnog tlaka. Mogućnost vanjske komunikacije putem etherneta, LON, PROFIBUS i MODBUS protokola te GSM/GPRS uz dodatak odgovarajuće komunikacijske kartice.
B13: Ugrađene crpke su vertikalne, in-line crpke s patronskim mehaničkim brtvama, frekventno reguliranim motorima klase energetske efikasnosti IE5 i ugrađenom termičkom zaštitom, kompletno izrađene iz nehrđajućeg čelika. Ulazni i izlazni kolektori su izrađeni iz materijala EN/DIN 1.4571.
B14: Hidrostanica mora imati mogućnost rada u sistemu proporcionalnog i konstantnog tlaka.
B15: Indeks minimalne efikasnosti MEI ≥ 0,7. Efikasnost u radnoj točki: minimalno 50 [%] Nominalna snaga P2 pojedinačnih crpki: 2,2 [kW]
B16: Uz hidro-stanicu isporučiti i:
B17: * Izjavu o sukladnosti izdanu od domaće ovlaštene institucije
B18: * uvjerenje o ispunjavanju zahtjeva prema Zakonu o zaštiti na radu, izdano od domaće ovlaštene institucije
B19: Elektro-ormar crpnog bloka se isporučuje odvojeno od hidrauličkog dijela crpnog bloka – nadzemno u zaštitnom ormariću.
B20: Crpni blok mora biti isporučen s tvorničkim kabelima duljine do 30 m.
C21: komplet | D21: 1 | F21: =D21*E21 -> 0
A22: C.2 | B22: TEHNOLOŠKI CJEVOVODI | F22: =SUM(F23:F57) -> 0
B23: materijal izrade: St37
B24: Nabava, doprema i ugradnja čeličnih cijevi St 37 prema važećoj normi, šavne okrugle nelegirane čelične cijevi visokih performansi. Cijevi se kompletiraju s prirubnicama odgovarajućih dimenzija, kvalitete materijala kao i osnovna cijev. Međusobno spajanje cijevi prirubnicama i fazonskim komadima odgovarajućim postupkom zavarivanja.
B25: Komplet s lukovima, spojnim i fazonskim komadima, cijevnim držačima, čvrstim i kliznim osloncima i ostalom potrebnom opremom. Sve očišćeno i premazano s po dva premaza temeljne boje.
B26: NAPOMENE:
B27: Antikorozivna zaštita cjevovoda bitumenski ili epoxy premazi debljine min. 250 μm poradi mogućih intenzivnih korozijskih procesa koji se razvijaju u uvjetima povećane vlažnosti unutar objekta. Premazi s certifikatom za pitku vodu.
B28: Nakon izvedenih zavarivanja, sva mjesta na tlačnim cjevovodima koja su bila pod utjecajem topline uslijed zavarivanja, iskrenja nastalih uporabom brusilice itd. je potrebno temeljito očistiti i antikorozijski zaštititi s po dva premaza temeljne boje i završnog laka
B29: Dolje navedene duljine cijevi ovise o tipu ugrađene opreme i izvedenom stanju građevinskog objekta te ih valja shvatiti samo paušalno. Stoga se svi cjevovodi, fazoni i prirubnice izrađene od čelika isporučuju NEZAVARENI, pojedinačno u skladu sa specifikacijom u troškovniku. Zavarivanje pojedinih cijevnih elemenata i fazona te završnu izradu pozicija izvršiti u radionici tek nakon provjere stvarno izvedenih kota i građevinskih dimenzija crpne stanice i ugrađene opreme. Po mogućnosti zavarivanja izvršiti u povoljnim radioničkim uvjetima. Terenska zavarivanja svesti na najmanju moguću mjeru.
B30: Medij: pitka voda
A31: C.2.1 | B31: Sklop usisnog cjevovoda:
B32: · materijal: St 37
B33: · 1 x cijev Ø114.3x3.6, L~ 60 mm
B34: · 1 x Q komad 90˚ DN100
B35: · 1 x redukcija DN100 > DN 80
B36: · 1 x prirubnica DN100 PN10
B37: · 1 x prirubnica DN80 PN10
B38: · 1 x cijevni kolčak DN15, L=100 mm, s navojem Ø1/2"
B39: · vođenje unutar okna na betonskim podloškama pri podu
B40: ……………………………………………….. | C40: komplet | D40: 1 | F40: =D40*E40 -> 0
A41: C.2.2 | B41: Sklop tlačnog cjevovoda:
B42: · materijal: St 37
B43: · 1 x cijev Ø114.3x3.6, L~ 1060 mm
B44: · 1 x cijev Ø114.3x3.6, L~ 75 mm
B45: · 1 x Q komad 90 ˚ DN100
B46: · 1 x redukcija DN100 > DN 80
B47: · 1 x prirubnica DN100 PN10
B48: · 1 x prirubnica DN80 PN10
B49: · vođenje unutar okna na betonskim podloškama pri podu
B50: ……………………………………………….. | C50: komplet | D50: 1 | F50: =D50*E50 -> 0
A51: C.2.3 | B51: Sklop glavnog cjevovoda:
B52: · materijal: St 37
B53: · 1 x cijev Ø114.3x3.6, L~ 1100mm
B54: · 2 x prirubnica DN100 PN10
B55: · 1 x cijevni kolčak DN15, L=100 mm, s navojem Ø1/2"
B56: · vođenje unutar okna na betonskim podloškama pri podu
B57: ………………………………………………… | C57: komplet | D57: 1 | F57: =D57*E57 -> 0
A58: C.3 | B58: CIJEVNA ARMATURA I FAZONI | F58: =SUM(F59:F71) -> 0
B59: materijal izrade: GGG40
B60: Nabava, doprema i ugradnja lijevano-željeznih cijevi, fazonskih komada i armature, sve iz nodularnog lijeva (ductil) oznake GGG40 prema važećoj normi, za izradu dijelova cjevovoda unutar crpne stanice, sve PN10 (nazivni tlak). Antikorozijska zaštita kao u napomeni strojarskog troškovnika.
A61: C.3.1 | B61: Leptirasti zaporni ventili (WAFER) s ručnim pogonom. Izvedba s centrično postavljenim diskom, meko brtvljenje vulkaniziranim dosjedom. Materijal zaklopke GGG40, disk i osovina diska iz nehrđajućeg čelika, brtva iz EPDM-a.
B62: Izrađuju se iz lijevanog željeza, lakirani Epoxy prahom te kompletirani s diskom iz INOX-a.
B63: DN100 | C63: kom. | D63: 2 | F63: =D63*E63 -> 0
A64: C.3.2 | B64: EV zasun za pitku vodu DN100 | C64: kom. | D64: 2 | F64: =D64*E64 -> 0
A65: C.3.3 | B65: Protupovratna zaklopka DN100 | C65: kom. | D65: 1 | F65: =D65*E65 -> 0
A66: C.3.4 | B66: T-komad DN100 | C66: kom. | D66: 2 | F66: =D66*E66 -> 0
A67: C.3.5 | B67: FF-komad DN100, L=600 mm | C67: kom. | D67: 3 | F67: =D67*E67 -> 0
A68: C.3.6 | B68: FF-komad DN100, L=400 mm | C68: kom. | D68: 1 | F68: =D68*E68 -> 0
A69: C.3.7 | B69: Prirubnički gumeni kompenzator DN80 sa duplim naborima s pocinčanom prirubnicama bez ograničenja duljine. Prirubnica: čelik, glavanizirano pocinčan mjeh: elastomer materijal s najlonskim umtanjem tkanine max. dozvoljeno raspreman temperature: -10°C do +80°C max. Vakuum pri normalnoj temperaturi 650 mm/HG | C69: kom. | D69: 2 | F69: =D69*E69 -> 0
A70: C.3.8 | B70: Montažno-demontažni komad Sljedeće izvedbe: Nominalni tlak DN 100 PN10 Bušenje prirubnica: EN 1092, PN10 Temperaturno područje: do 60°C Izvedba: kruta, s prolaznim vijcima s navojem, 4 vijaka Ugradbena dužina: u središnjem položaju , područje podešenja: ± 25 mm Materijali: prirubnice i tijelo čelik, vijci s navojem, šesterokutne matice i podloške: galvanizirani čelik Zaštita od korozije: Iznutra i izvana epoksidni premaz, sloj debljine 300 µm Boja: RAL 9005 (crna) Uvjerenje HR Zavoda za javno zdravstvo o prikladnosti korištenja za pitku vodu Hrvatski certifikat o sukladnosti izdat od ovlaštene tvrtke | C70: kom. | D70: 3 | F70: =D70*E70 -> 0
A71: C.3.9 | B71: Prijelazna spojnica GGG40 DN100/PEHD d110 | C71: kom. | D71: 2 | F71: =D71*E71 -> 0
A72: C.4 | B72: MJERNO-SIGURNOSNA OPREMA | F72: =SUM(F73:F91) -> 0
A73: C.4.1 | B73: Nabava, doprema i ugradnja tlačne membranske posude i prateće opreme. Tlačna membranska posuda za vodu se izrađuje u vertikalnoj izvedbi od pocinčanog čeličnog lima, komplet s manometrom mjernog područja 0…10 bar, sigurnosnim ventilom, donjom navojnim priključkom 3/4' (DN20) za ulaz/izlaz/ispuštanje vode te bočnim priključkom u gornjoj zoni tlačne posude za njeno punjenje komprimiranim zrakom. Antikorozivna zaštita kao u napomeni ovog troškovnika.
B74: Tlačna posuda se kompletira s armaturom i sigurnosnom opremom PN10. Komplet čini:
B75: · sigurnosni ventil
B76: · manometar skale 0…10 bar, kompletirano sa slavinom na nosaču manometra
B77: · odzračni ventil
B78: · ostala potrebna oprema za puni funkcionalni rad uređaja
B79: membranski spremnik V=25l
B80: dimenzije ca. Ø280x500 mm
C81: komplet | D81: 1 | F81: =D81*E81 -> 0
A82: C.4.2 | B82: Nabava, doprema i ugradnja manometara za mjerenje tlaka u sustavu
B83: dimenzije: Ø100, 10bar, priključak Ø1/2"
B84: materijal izrade: St37
C85: komplet | D85: 2 | F85: =D85*E85 -> 0
A86: C.4.3 | B86: Nabava, doprema i ugradnja elektromagnetskog mjerača protoka dimenzija DN100 PN10. Mjerač se kompletira s elektroničkim mjernim sklopom i kablovima na vezi mjerač- mjerni sklop do glavnog el. ormara. Maksimalni radni tlak: 16.0 bar, medij: pitka voda temperature do 30°C, udaljenost glavnog el. ormara do 30 m, napajanje 220 V±10%, 50 Hz, strujni izlaz 4-20 mA. Opseg isporuke: Indukcijski osjetnik protoka (1 kom.), normalizator signala s ugrađenim pokaznim instrumentom trenutnog protoka i ukupne količine (1 kom.), potrebni kablovi za spoj na glavni elektro-ormar odgovarajuće duljine te ostala oprema za ugradnju.
B87: TEHNIČKE KARAKTERISTIKE: • dimenzije DN100 PN10 • Kompaktna izvedba • stupanj zaštite IP67sa mikroprocerskom samokontrolom ispravnosti rada, • napajanje 220V, 50 Hz • dozvoljena temp. medija 10 do 30°C
C88: komplet | D88: 1 | F88: =D88*E88 -> 0
A89: C.4.4 | B89: Nabava, doprema i ugradnja poklopca crpne stanice koji se izrađuju iz INOX-a V2A(AISI304) s obvezatnim jetkanjem u kupelji te naknadnom pasivizacijom čime se osigurava dodatna trajnost i antikorozijsko djelovanje. Komplet s okvirom, ljepljivom gumenom trakom dim 30/5 mm za osiguranje jednolikog nalijeganja te vodo i plinotijesnosti, bravicom s univerzalnim ključem, zategom protiv nekontroliranog zatvaranja otvorenog poklopca, s odzrakama DN150 ili bez (zavisno o potrebi), s ventilacijskom kapom i zaštitnom mrežicom protiv ulaska kukaca te svim ostalim priborom potrebnim za ugradnju.
A90: C.4.4.1 | B90: jednodijelni INOX poklopac dimenzija 600x600 mm | C90: komplet | D90: 1 | F90: =D90*E90 -> 0
A91: C.4.4.2 | B91: dvodijelni INOX poklopac dimenzija 2000x1000 mm sa srednjom demontažnom prečkom | C91: komplet | D91: 1 | F91: =D91*E91 -> 0
A92: C.5 | B92: OSTALO | F92: =SUM(F93:F110) -> 0
A93: C.5.1 | B93: Nabava, doprema i ugradnja brtvenog elementa za podore cijevi (inox ili plastika) kroz armiranobetonski zid ili pod. Brtveni element se ugrađuje u postojećem zidu u otvoru izbušenom krunskom pilom a u novom zidu u uložak od inox cijevi sa zidnom prirubnicom ili sa okruglim papirnatim kalupom koji se ugrađuje tijekom betoniranja. Brtveni element je izrađen od EPDM gume i inoxa AISI 316 a unutar elementa se nalaze listići čijim uklanjanjem se otvor brtvenog elementa prilagođava promjeru cijevi. Nakon ugradnje cijevi brtveni element se priteže vijcima koji su integrirani u brtveni element. Brtveni element se isporučuje zajedno sa mazivom za instalaciju. Otvor za ugradnu brtvenog elementa mora biti promjera prema uputama proizvođača.
B94: Ø252/Ø114.3 | C94: komplet | D94: 2 | F94: =D94*E94 -> 0
A95: C.5.2 | B95: Nabava, doprema i ugradnja sitnog pomoćnog i montažnog materijala i pribora (dodatni energent i materijal za zavarivanje, brtve, vijci i matice, tiplovi, obujmice, tuljci za izolaciju vijaka i matica kod spajanja fazona iz različitih metalnih materijala i ostala standardna roba potrebna za ugradbu).
B96: NAPOMENA: Završni obračun stavke prema dokazima o stvarnom utrošku što potvrđuje nadzorni inženjer.
C97: komplet | D97: 1 | F97: =D97*E97 -> 0
A98: C.5.3 | B98: Tlačna proba kompletne instalacije tlakom 10.0 bar u trajanju 4 sata
C99: komplet | D99: 1 | F99: =D99*E99 -> 0
A100: C.5.4 | B100: Puštanje u pogon u nazočnosti isporučitelja opreme ili ovlaštenog servisera, podešavanje automatike i ostale potrebne radnje do pune funkcionalnosti crpne stanice.
...

Sheet D_ Elektrotehnički
A1: Rekonstrukcija i izgradnja vodoopskrbne mreže i izgradnja kanalizacijske mreže u Ulici Miroslava Krleže u Orahovici
A2: =Rekapitulacija!A7 -> D ELEKTROTEHNIČKI RADOVI
A3: Broj | B3: Opis | C3: Jedinica mjere | D3: Količina | E3: Jedinična cijena | F3: Ukupna cijena
A4: D.1 | B4: EL. INSTALACIJA STANICE ZA PODIZANJE TLAKA (SPT) | F4: =SUM(F5:F90) -> 0
A5: D.1.1 | B5: Troškovi izvedbe el. priključka crpne stanice (P=11,04kW / vanjski opskrbni vod + SPMO) | C5: kompl | D5: 1 | E5: 0 | F5: =D5*E5 -> 0
A6: D.1.2 | B6: Izrada, isporuka, postavljanje i spajanje vanjske samostojeće el. razdjelnice stanice za podizanje tlaka RSPT, sastavljene od slijedeće opreme:
A7: D.1.2.1 | B7: samostojeći poliesterski (staklom ojačani) ormar, otporan na vanjske utjecaj (UV zračenje, temperatura, vlaga..) dimenzija 1250x1250/432mm, IP55 | C7: kom | D7: 1 | E7: 0 | F7: =D7*E7 -> 0
A8: D.1.2.2 | B8: poliestersko postolje ormara - za ukopavanje u tlo, 1000x1000/432mm | C8: kom | D8: 1 | E8: 0 | F8: =D8*E8 -> 0
A9: D.1.2.3 | B9: montažna ploča od pocinčanog čelika | C9: kom | D9: 1 | E9: 0 | F9: =D9*E9 -> 0
A10: D.1.2.4 | B10: držač dokumentacije | C10: kom | D10: 1 | E10: 0 | F10: =D10*E10 -> 0
A11: D.1.2.5 | B11: mikroprekidač - sklopka za signalizaciju otvorenosti vrata razdjelnika, komplet sa svim potrebnim spojnim i ovjesnim priborom | C11: kompl | D11: 1 | E11: 0 | F11: =D11*E11 -> 0
A12: D.1.2.6 | B12: cilindrična bravica s ključem komunalnog poduzeća | C12: kom | D12: 1 | E12: 0 | F12: =D12*E12 -> 0
B13: U ormar se ugrađuje i spaja slijedeća elektroinstalacijska oprema
A14: D.1.2.7 | B14: limitator (isporučuje HEP) | C14: kom | D14: 1 | E14: 0 | F14: =D14*E14 -> 0
A15: D.1.2.8 | B15: 4-polni modularni odvodnik prenapona, kl.C / 255V / 20kA / TNS / pomoćni kontakt, (podnožje + modul) | C15: kompl | D15: 1 | E15: 0 | F15: =D15*E15 -> 0
A16: D.1.2.9 | B16: 3-polna rastavna sklopka, D02/63A | C16: kom | D16: 2 | E16: 0 | F16: =D16*E16 -> 0
A17: D.1.2.10 | B17: rastavni uložak, D02-20…40A | C17: kom | D17: 6 | E17: 0 | F17: =D17*E17 -> 0
A18: D.1.2.11 | B18: grebenasta sklopka, 1-0-2 / 40A / 3P / glavna / DIN montaža | C18: kom | D18: 1 | E18: 0 | F18: =D18*E18 -> 0
A19: D.1.2.12 | B19: grebenasta sklopka, 0-1 / 25A / 1P / DIN montaža | C19: kom | D19: 1 | E19: 0 | F19: =D19*E19 -> 0
A20: D.1.2.13 | B20: zaštitni prekidač, C6/1, 10kA | C20: kom | D20: 7 | E20: 0 | F20: =D20*E20 -> 0
A21: D.1.2.14 | B21: kombinirani zaštitni prekidač, LS-FI C10/2, 10kA | C21: kom | D21: 2 | E21: 0 | F21: =D21*E21 -> 0
A22: D.1.2.15 | B22: kombinirani zaštitni prekidač, LS-FI C16/2, 10kA | C22: kom | D22: 2 | E22: 0 | F22: =D22*E22 -> 0
A23: D.1.2.16 | B23: postolje staklenog osigurača, DIN montaža, komplet s rastalnim ulošcima 20x5mm (F0.25….2A) | C23: kompl | D23: 14 | E23: 0 | F23: =D23*E23 -> 0
A24: D.1.2.17 | B24: priključnica ugradna, 3P: L+N+PE / 230V / 16A / DIN montaža | C24: kom | D24: 1 | E24: 0 | F24: =D24*E24 -> 0
A25: D.1.2.18 | B25: utikač nadgradni, 5P: 3L+N+PE / 3x400/230V / 32A | C25: kom | D25: 1 | E25: 0 | F25: =D25*E25 -> 0
... A35: D.1.2.28 | B35: mjerni pretvarač, 230V / 4-20mA/4-20mA / DIN montaža | C35: kom | D35: 1 | E35: 0 | F35: =D35*E35 -> 0
B36: Dobava, ugradnja i spajanje slijedeće kontrolne i komunikacijske opreme, proizvodnje SIEMENS:
B37: (oprema je definirana i usklađena sa tipizacijom odnosno postojećim NUS-om komunalnog poduzeća)
A38: D.1.2.28 | B38: SITOP modularna napojna jedinica, 230VAC/24VDC-5A | C38: kom | D38: 1 | E38: 0 | F38: =D38*E38 -> 0
A39: D.1.2.29 | B39: SITOP UPS modul 24VDC-6A | C39: kom | D39: 1 | E39: 0 | F39: =D39*E39 -> 0
A40: D.1.2.30 | B40: SITOP akumulatorski modul, 24V-7Ah | C40: kom | D40: 1 | E40: 0 | F40: =D40*E40 -> 0
A41: D.1.2.31 | B41: SIMATIC S7-1200, PLC (CPU1212C, 8DI, 6DO) | C41: kom | D41: 1 | E41: 0 | F41: =D41*E41 -> 0
A42: D.1.2.32 | B42: SIMATIC S7-1200, I/O modul SM 1221 (16DI) | C42: kom | D42: 1 | E42: 0 | F42: =D42*E42 -> 0
A43: D.1.2.33 | B43: SIMATIC S7-1200, I/O modul SM 1231 (4AI) | C43: kom | D43: 1 | E43: 0 | F43: =D43*E43 -> 0
A44: D.1.2.34 | B44: SIMATIC komunikacijski procesor, CP1242-7 | C44: kom | D44: 1 | E44: 0 | F44: =D44*E44 -> 0
A45: D.1.2.35 | B45: GSM antena SINAUT ANT 794-4MR | C45: kom | D45: 1 | E45: 0 | F45: =D45*E45 -> 0
A46: D.1.2.36 | B46: SIMATIC industrijski Ethernet switch, CM1277 (4xRJ45) | C46: kom | D46: 1 | E46: 0 | F46: =D46*E46 -> 0
A47: D.1.2.37 | B47: ugradnja i spajanje kontrolne opreme koju dobavlja izvođač strojarskih radova -*upravljački ormar crpne stanice | C47: kom | D47: 1 | E47: 0 | F47: =D47*E47 -> 0
A48: D.1.2.38 | B48: redne stazaljke 10 mm2 | C48: kom | D48: 5 | E48: 0 | F48: =D48*E48 -> 0
A49: D.1.2.39 | B49: redne stazaljke 2,5 mm2 | C49: kom | D49: 25 | E49: 0 | F49: =D49*E49 -> 0
... A52: D.1.2.42 | B52: rad na montaži, spajanju i označavanju opreme, radioničko ispitivanje, izdavanje atesta i protokola, transport na lokaciju i montaža | C52: kompl | D52: 1 | E52: 0 | F52: =D52*E52 -> 0
B53: El. razdjelnik RSPT :
A54: D.1.3 | B54: Dobava i montaža u podzemno betonsko okno te spajanje slijedeće instalacijske kabelske opreme:
B55: (opremu nuditi u kompletu sa svim potrebnim ovjesnim i spojnim priborom i materijalom)
A56: D.1.3.1 | B56: čelični pocinčani perforirani kabelski kanal
B57: PK200/50 | C57: m | D57: 2 | E57: 0 | F57: =D57*E57 -> 0
A58: D.1.3.2 | B58: platična samogasiva kabelska kanalica s poklopcem
B59: 100x40 | C59: m | D59: 15 | E59: 0 | F59: =D59*E59 -> 0
A60: D.1.3.3 | B60: kruta instalacijska cijev
B61: PNT16 | C61: m | D61: 25 | E61: 0 | F61: =D61*E61 -> 0
A62: D.1.4 | B62: Dobava, montaža u podzemno betonsko okno te spajanje slijedećih elektrouređaja i elemenata:
B63: nadgradna industrijska vodotjesna svjetiljka, LED / 230V / 19W / 2700lm / 4000K / IP65 / L=1270mm | C63: kom | D63: 2 | E63: 0 | F63: =D63*E63 -> 0
B64: nadgradna priključnica, L-N-PE / 16A /230V / IP44 | C64: kom | D64: 1 | E64: 0 | F64: =D64*E64 -> 0
B65: prekidač - sklopka za signalizaciju otvorenosti poklopca okna, komplet sa svim potrebnim spojnim i ovjesnim priborom | C65: kompl | D65: 3 | E65: 0 | F65: =D65*E65 -> 0
A66: D.1.5 | B66: Dobava i ugradnja u tlo instalacijske cijevi:
A67: D.1.5.1 | B67: PEHD110 | C67: m | D67: 20 | E67: 0 | F67: =D67*E67 -> 0
A68: D.1.5.2 | B68: PEHD 50 | C68: m | D68: 20 | E68: 0 | F68: =D68*E68 -> 0
A69: D.1.6 | B69: Dobava i polaganje u već iskopani rov i s provlačenjem kroz postavljene cijevi, kabela:
A70: D.1.6.1 | B70: NYY 5x10 mm2 | C70: m | D70: 40 | E70: 0 | F70: =D70*E70 -> 0
A71: D.1.6.2 | B71: NYY 3x2,5 mm2 | C71: m | D71: 40 | E71: 0 | F71: =D71*E71 -> 0
A72: D.1.6.3 | B72: YSLCY 4x1,5 mm2 | C72: m | D72: 40 | E72: 0 | F72: =D72*E72 -> 0
A73: D.1.6.4 | B73: NYY 3x1,5 mm2 | C73: m | D73: 40 | E73: 0 | F73: =D73*E73 -> 0
A74: D.1.6.5 | B74: H07V-K (ž/z) 1x16 mm2 | C74: m | D74: 40 | E74: 0 | F74: =D74*E74 -> 0
A75: D.1.6.6 | B75: H07V-K (ž/z) 1x10 mm2 | C75: m | D75: 40 | E75: 0 | F75: =D75*E75 -> 0
A76: D.1.7 | B76: Spajanje opreme koju dobavljaju i ugrađuju drugi izvođači (mjerač protoka, crpni blok) | C76: kom | D76: 2 | E76: 0 | F76: =D76*E76 -> 0
A77: D.1.8 | B77: Izrada instalacije dopunskog izjednačenja potencijala:
A78: D.1.8.1 | B78: dobava i polaganje voda H07V-K (ž/z) 1x6mm2 | C78: m | D78: 40 | E78: 0 | F78: =D78*E78 -> 0
A79: D.1.8.2 | B79: spajanje metalnih masa, komplet sa svim potrebnim spojnim priborom (osim voda/trake) | C79: kom | D79: 10 | E79: 0 | F79: =D79*E79 -> 0
A80: D.1.9 | B80: Dobava i postavljanje u betonsku oplatu i iskopani zemljanji rov, čelične nehrđajuće trake, Rf P30x3mm | C80: m | D80: 40 | E80: 0 | F80: =D80*E80 -> 0
A81: D.1.10 | B81: Dobava i postavljanje križne spojnice (traka-traka) od nehrđajučeg čelika (Rf) | C81: kom | D81: 4 | E81: 0 | F81: =D81*E81 -> 0
A82: D.1.11 | B82: Dobava i postavljanje na betonski zid podzemnog okna, čelične nehrđajuće trake Rf P30x3mm, komplet sa ovjesnim - zidnim nosačima | C82: m | D82: 10 | E82: 0 | F82: =D82*E82 -> 0
A83: D.1.12 | B83: Povezivanje trake uzemljenja u na zaštitnu sabirnicu (PE) u razdjelnici SPMO / RCS, komplet s potrebnim materijalom | C83: kom | D83: 2 | E83: 0 | F83: =D83*E83 -> 0
A84: D.1.13 | B84: Naspecificirani sitni instalacijski materijal i pribor (vijci, gips, vezice...) | C84: kompl | D84: 1 | E84: 0 | F84: =D84*E84 -> 0
A85: D.1.14 | B85: Programiranje i parametriranje PLC-a (SIMATIC) i komunikacije (SINAUT) za potrebe vođenja i nadzora crpne stanice | C85: kompl | D85: 1 | E85: 0 | F85: =D85*E85 -> 0
A86: D.1.15 | B86: Dopuna softverskog programa postojećeg centra NUS-a za prihvat nove precrpne stanice | C86: kompl | D86: 1 | E86: 0 | F86: =D86*E86 -> 0
A87: D.1.16 | B87: Funkcionalno ispitivanje signala i puštanje crpne stanice u automatski rad (preko PLC i lokalna automatika) | C87: kompl | D87: 1 | E87: 0 | F87: =D87*E87 -> 0
A88: D.1.17 | B88: Pregled, ispitivanje i mjerenje izvedene el. instalacije,od strane ovlaštene tvrtke, te izdavanje mjernih protokola | C88: kompl | D88: 1 | E88: 0 | F88: =D88*E88 -> 0
A89: D.1.18 | B89: Obuka korisnika, izrada uputstava za korištenje i održavanje stanice te priprema i isporuka dokumentacije za teh. pregled | C89: kompl | D89: 1 | E89: 0 | F89: =D89*E89 -> 0
A90: D.1.19 | B90: Izrada i isporuka dokumentacije izvedenog stanja (u 3 primjerka) | C90: kompl | D90: 1 | E90: 0 | F90: =D90*E90 -> 0
A92: REKAPITULACIJA
A93: =A4 -> D.1 | B93: =B4 -> EL. INSTALACIJA STANICE ZA PODIZANJE TLAKA (SPT) | C93: =F4 -> 0
B94: UKUPNO | C94: =C93 -> 0
